BEGIN:VCALENDAR
VERSION:2.0
PRODID:-//Comité Oeuvres Sociales Arcachon - ECPv6.0.12//NONSGML v1.0//EN
CALSCALE:GREGORIAN
METHOD:PUBLISH
X-WR-CALNAME:Comité Oeuvres Sociales Arcachon
X-ORIGINAL-URL:http://cos-arcachon.org
X-WR-CALDESC:évènements pour Comité Oeuvres Sociales Arcachon
REFRESH-INTERVAL;VALUE=DURATION:PT1H
X-Robots-Tag:noindex
X-PUBLISHED-TTL:PT1H
BEGIN:VTIMEZONE
TZID:Europe/Paris
BEGIN:DAYLIGHT
TZOFFSETFROM:+0100
TZOFFSETTO:+0200
TZNAME:CEST
DTSTART:20250330T010000
END:DAYLIGHT
BEGIN:STANDARD
TZOFFSETFROM:+0200
TZOFFSETTO:+0100
TZNAME:CET
DTSTART:20251026T010000
END:STANDARD
END:VTIMEZONE
BEGIN:VEVENT
DTSTART;TZID=Europe/Paris:20251220T200000
DTEND;TZID=Europe/Paris:20251220T230000
DTSTAMP:20260423T004443
CREATED:20251029T152106Z
LAST-MODIFIED:20251029T152106Z
UID:10000021-1766260800-1766271600@cos-arcachon.org
SUMMARY:Loto de Noël
DESCRIPTION:Il est réservé aux adhérents et à leur famille proche. L’apport d’alcool est interdit.
URL:http://cos-arcachon.org/event/loto-de-noel-3/
LOCATION:Tir au Vol\, 15 avenue du Parc\, Arcachon\, France
END:VEVENT
END:VCALENDAR