BEGIN:VCALENDAR
VERSION:2.0
PRODID:-//Comité Oeuvres Sociales Arcachon - ECPv6.0.12//NONSGML v1.0//EN
CALSCALE:GREGORIAN
METHOD:PUBLISH
X-ORIGINAL-URL:http://cos-arcachon.org
X-WR-CALDESC:évènements pour Comité Oeuvres Sociales Arcachon
REFRESH-INTERVAL;VALUE=DURATION:PT1H
X-Robots-Tag:noindex
X-PUBLISHED-TTL:PT1H
BEGIN:VTIMEZONE
TZID:Europe/Paris
BEGIN:DAYLIGHT
TZOFFSETFROM:+0100
TZOFFSETTO:+0200
TZNAME:CEST
DTSTART:20260329T010000
END:DAYLIGHT
BEGIN:STANDARD
TZOFFSETFROM:+0200
TZOFFSETTO:+0100
TZNAME:CET
DTSTART:20261025T010000
END:STANDARD
END:VTIMEZONE
BEGIN:VEVENT
DTSTART;TZID=Europe/Paris:20261212T133000
DTEND;TZID=Europe/Paris:20261212T180000
DTSTAMP:20260422T211021
CREATED:20260304T103310Z
LAST-MODIFIED:20260304T103310Z
UID:10000024-1797082200-1797098400@cos-arcachon.org
SUMMARY:Arbre de Noël
DESCRIPTION:
URL:http://cos-arcachon.org/event/arbre-de-noel/
LOCATION:Palais des Congrés\, Arcachon\, France
END:VEVENT
END:VCALENDAR