BEGIN:VCALENDAR
VERSION:2.0
PRODID:-//Comité Oeuvres Sociales Arcachon - ECPv6.0.12//NONSGML v1.0//EN
CALSCALE:GREGORIAN
METHOD:PUBLISH
X-WR-CALNAME:Comité Oeuvres Sociales Arcachon
X-ORIGINAL-URL:http://cos-arcachon.org
X-WR-CALDESC:évènements pour Comité Oeuvres Sociales Arcachon
REFRESH-INTERVAL;VALUE=DURATION:PT1H
X-Robots-Tag:noindex
X-PUBLISHED-TTL:PT1H
BEGIN:VTIMEZONE
TZID:Europe/Paris
BEGIN:DAYLIGHT
TZOFFSETFROM:+0100
TZOFFSETTO:+0200
TZNAME:CEST
DTSTART:20250330T010000
END:DAYLIGHT
BEGIN:STANDARD
TZOFFSETFROM:+0200
TZOFFSETTO:+0100
TZNAME:CET
DTSTART:20251026T010000
END:STANDARD
END:VTIMEZONE
BEGIN:VEVENT
DTSTART;TZID=Europe/Paris:20251105T110000
DTEND;TZID=Europe/Paris:20251105T123000
DTSTAMP:20260423T004541
CREATED:20251029T150620Z
LAST-MODIFIED:20251029T151358Z
UID:10000017-1762340400-1762345800@cos-arcachon.org
SUMMARY:Passage à la carte déjeuner
DESCRIPTION:Endered répondra à toutes vos questions relatives au passage à la carte déjeuner. N’oubliez pas de nous prévenir de l’horaire à laquelle vous serez présents.
URL:http://cos-arcachon.org/event/passage-a-la-carte-dejeuner/
LOCATION:Tir au Vol\, 15 avenue du Parc\, Arcachon\, France
END:VEVENT
BEGIN:VEVENT
DTSTART;TZID=Europe/Paris:20251105T143000
DTEND;TZID=Europe/Paris:20251105T160000
DTSTAMP:20260423T004541
CREATED:20251029T150740Z
LAST-MODIFIED:20251029T151432Z
UID:10000018-1762353000-1762358400@cos-arcachon.org
SUMMARY:Passage à la carte déjeuner
DESCRIPTION:Endered répondra à toutes vos questions relatives au passage à la carte déjeuner. N’oubliez pas de nous prévenir de l’horaire à laquelle vous serez présents.
URL:http://cos-arcachon.org/event/passage-a-la-carte-dejeuner-2/
END:VEVENT
BEGIN:VEVENT
DTSTART;TZID=Europe/Paris:20251130T080000
DTEND;TZID=Europe/Paris:20251130T233000
DTSTAMP:20260423T004541
CREATED:20251029T150406Z
LAST-MODIFIED:20251029T150406Z
UID:10000016-1764489600-1764545400@cos-arcachon.org
SUMMARY:Cadeaux Noël 2025
DESCRIPTION:Dernier jour pour commander les cadeaux de vos enfants chez JouéClub.
URL:http://cos-arcachon.org/event/cadeaux-noel-2025/
END:VEVENT
END:VCALENDAR